BEGIN:VCALENDAR
VERSION:2.0
PRODID:-//bischmisheim.de - ECPv6.15.20//NONSGML v1.0//EN
CALSCALE:GREGORIAN
METHOD:PUBLISH
X-ORIGINAL-URL:https://bischmisheim.de
X-WR-CALDESC:Veranstaltungen für bischmisheim.de
REFRESH-INTERVAL;VALUE=DURATION:PT1H
X-Robots-Tag:noindex
X-PUBLISHED-TTL:PT1H
BEGIN:VTIMEZONE
TZID:Europe/Berlin
BEGIN:DAYLIGHT
TZOFFSETFROM:+0100
TZOFFSETTO:+0200
TZNAME:CEST
DTSTART:20250330T010000
END:DAYLIGHT
BEGIN:STANDARD
TZOFFSETFROM:+0200
TZOFFSETTO:+0100
TZNAME:CET
DTSTART:20251026T010000
END:STANDARD
BEGIN:DAYLIGHT
TZOFFSETFROM:+0100
TZOFFSETTO:+0200
TZNAME:CEST
DTSTART:20260329T010000
END:DAYLIGHT
BEGIN:STANDARD
TZOFFSETFROM:+0200
TZOFFSETTO:+0100
TZNAME:CET
DTSTART:20261025T010000
END:STANDARD
BEGIN:DAYLIGHT
TZOFFSETFROM:+0100
TZOFFSETTO:+0200
TZNAME:CEST
DTSTART:20270328T010000
END:DAYLIGHT
BEGIN:STANDARD
TZOFFSETFROM:+0200
TZOFFSETTO:+0100
TZNAME:CET
DTSTART:20271031T010000
END:STANDARD
END:VTIMEZONE
BEGIN:VEVENT
DTSTART;TZID=Europe/Berlin:20260305T170000
DTEND;TZID=Europe/Berlin:20260305T190000
DTSTAMP:20260424T104704
CREATED:20260111T165425Z
LAST-MODIFIED:20260111T165425Z
UID:2599-1772730000-1772737200@bischmisheim.de
SUMMARY:Führung mit Delf Slotta - Die Schinkelkirche Bischmisheim – ein Meisterwerk des Klassizismus
DESCRIPTION:2024 war das Bischmisheimer Wahrzeichen\, die berühmte evangelische Schinkelkirche\, 200 Jahre alt geworden. „Keine Maskerade – das Nothwendige der Construction schön gestalten“\, so hat Karl Friedrich Schinkel den Grundsatz seiner Baukunst formuliert. Schinkel\, geboren 1781 in Neuruppin und gestorben 1841 in Berlin\, war Architekt in preußischen Diensten und stieg bis zum Baumeister des preußischen Königs auf. Seiner von ihm entworfenen und 1823-1824 erbauten Kirche in Bischmisheim hat er eine spektakuläre Achteckform mit einer umlaufenden Empore im Innern gegeben. Altar\, Kanzel und Orgel bilden eine imponierende Achse\, um die sich die Gemeinde in dichter\, aber keineswegs enger Form versammelt. Noch heute verkörpert die Kirche die Vorstellungen\, welche der größte preußische Baumeister des 19. Jahrhunderts von einer evangelischen Dorfkirche hatte. Die Schinkelkirche gilt heute als ein Meisterwerk des Klassizismus und als „der“ Idealbau einer evangelischen Dorfkirche. \nDie Stiftung Schinkelkirche Bischmisheim\, die VHS des Regionalverbandes Saarbrücken und die Evangelische Akademie im Saarland laden am Donnerstag\, den 05. März\, um 17.00 Uhr zu einer umfassenden Kirchenführung ein\, um Interessenten zum einen die faszinierende Bauschöpfung Karl Friedrich Schinkels in allen Einzelheiten nahezubringen. Zum anderen wird der Vorsitzende des Stiftungsrates Delf Slotta neben den bau- und architekturspezifischen Sachverhalten auch das 2014 fertiggestellte Lichtkunstprojekt zum Kircheninneren und die erst kürzlich von Energie SaarLorLux gestiftete und der Kirchengemeinde übergebene Außenillumination erläutern. \n„Die Stiftung Schinkelkirche\, die VHS Regionalverband Saarbrücken und die Evangelische Akademie freuen sich darauf\, möglichst viele Besucherinnen und Besucher am 05. März in Bischmisheim zur Kirchenführung begrüßen zu dürfen“\, so Delf Slotta. Der Eintritt zur Veranstaltung ist frei. Aber eine Spende zur Förderung der Stiftungsarbeit wird erbeten. Eine Voranmeldung ist nicht erforderlich. Weitere Informationen gibt gerne Delf Slotta (info@delfslotta.de\, 0179-1246371).
URL:https://bischmisheim.de/termine/fuehrung-mit-delf-slotta-die-schinkelkirche-bischmisheim-ein-meisterwerk-des-klassizismus/
LOCATION:Schinkelkirche\, Kirchstraße 1a\, Saarbrücken\, 66132\, Deutschland
END:VEVENT
BEGIN:VEVENT
DTSTART;TZID=Europe/Berlin:20260307T100000
DTEND;TZID=Europe/Berlin:20260307T120000
DTSTAMP:20260424T104704
CREATED:20260119T113338Z
LAST-MODIFIED:20260119T113338Z
UID:2627-1772877600-1772884800@bischmisheim.de
SUMMARY:Apfelsaftverkauf - OGV
DESCRIPTION:Saft aus eigener Produktion mit Äpfel aus der Umgebung von Bischmisheim.
URL:https://bischmisheim.de/termine/apfelsaftverkauf-ogv-3/
LOCATION:Kelterhaus\, Hochstraße 34\, Saarbrücken\, Saarland\, 66132\, Germany
ORGANIZER;CN="Obst- und Gartenbauverein e.V.":MAILTO:ogv-bischmisheim@web.de
END:VEVENT
BEGIN:VEVENT
DTSTART;TZID=Europe/Berlin:20260321T130000
DTEND;TZID=Europe/Berlin:20260321T160000
DTSTAMP:20260424T104704
CREATED:20260211T171239Z
LAST-MODIFIED:20260211T171239Z
UID:2738-1774098000-1774108800@bischmisheim.de
SUMMARY:Second-Hand-Markt Bischmisheim
DESCRIPTION:Flohmarkt mit Baby- und Kinderkleidung\, Spielsachen\, Büchern und Ausstattungsgegenständen \nFür das leibliche Wohl ist gesorgt. \nDer Erlös des Getränke- und Essensverkaufs\, sowie die Tischgebühr kommen der ev. Kindertagesstätte Bischmisheim zu Gute.
URL:https://bischmisheim.de/termine/second-hand-markt-bischmisheim/
LOCATION:Festhalle Bischmisheim\, Friedrich-Ebert-Straße\, Saarbrücken\, Sarland\, 66132
END:VEVENT
END:VCALENDAR