BEGIN:VCALENDAR
VERSION:2.0
PRODID:-//bischmisheim.de - ECPv6.15.20//NONSGML v1.0//EN
CALSCALE:GREGORIAN
METHOD:PUBLISH
X-WR-CALNAME:bischmisheim.de
X-ORIGINAL-URL:https://bischmisheim.de
X-WR-CALDESC:Veranstaltungen für bischmisheim.de
REFRESH-INTERVAL;VALUE=DURATION:PT1H
X-Robots-Tag:noindex
X-PUBLISHED-TTL:PT1H
BEGIN:VTIMEZONE
TZID:Europe/Berlin
BEGIN:DAYLIGHT
TZOFFSETFROM:+0100
TZOFFSETTO:+0200
TZNAME:CEST
DTSTART:20250330T010000
END:DAYLIGHT
BEGIN:STANDARD
TZOFFSETFROM:+0200
TZOFFSETTO:+0100
TZNAME:CET
DTSTART:20251026T010000
END:STANDARD
BEGIN:DAYLIGHT
TZOFFSETFROM:+0100
TZOFFSETTO:+0200
TZNAME:CEST
DTSTART:20260329T010000
END:DAYLIGHT
BEGIN:STANDARD
TZOFFSETFROM:+0200
TZOFFSETTO:+0100
TZNAME:CET
DTSTART:20261025T010000
END:STANDARD
BEGIN:DAYLIGHT
TZOFFSETFROM:+0100
TZOFFSETTO:+0200
TZNAME:CEST
DTSTART:20270328T010000
END:DAYLIGHT
BEGIN:STANDARD
TZOFFSETFROM:+0200
TZOFFSETTO:+0100
TZNAME:CET
DTSTART:20271031T010000
END:STANDARD
END:VTIMEZONE
BEGIN:VEVENT
DTSTART;TZID=Europe/Berlin:20260409T190000
DTEND;TZID=Europe/Berlin:20260409T190000
DTSTAMP:20260420T130548
CREATED:20260303T193945Z
LAST-MODIFIED:20260305T124848Z
UID:2825-1775761200-1775761200@bischmisheim.de
SUMMARY:Erstes "Kneibe Quiz"
DESCRIPTION:Der Kulturring Bischmisheim e.V. lädt herzlich ein! \nZum ersten „Kneibe-Quiz“ im Turnerheim bringt der Kulturring echtes Pub-Quiz-Feeling „auf die Höh’“!Das ursprünglich aus England und Irland stammende Format sorgt nun auch in Bischmisheim für einen unterhaltsamen Quizabend. \nFreut Euch auf ein neues Konzept und einen bunten Abend voller spannender Fragen\, Teamgeist und guter Stimmung. \n📅 9. April🕖 19:00 Uhr📍 Turnerheim Bischmisheim \nDie Plätze sind begrenzt – daher bitten wir um Anmeldung unter:📧 quiz@bischmisheim.de \nSchreibt uns kurz\, wer Ihr seid und mit wie vielen Personen Ihr kommen möchtet. Gerne könnt ihr euch auch als Team mit bis zu 8 Personen anmelden.\nWir versuchen\, für alle einen Platz zu finden. \nWir freuen uns auf Euch! \n \n 
URL:https://bischmisheim.de/termine/quiz/
LOCATION:Turnerheim Bischmisheim\, Turnerweg 2\, Saarbrücken\, 66132
END:VEVENT
END:VCALENDAR