BEGIN:VCALENDAR
VERSION:2.0
PRODID:-//bischmisheim.de - ECPv6.15.20//NONSGML v1.0//EN
CALSCALE:GREGORIAN
METHOD:PUBLISH
X-WR-CALNAME:bischmisheim.de
X-ORIGINAL-URL:https://bischmisheim.de
X-WR-CALDESC:Veranstaltungen für bischmisheim.de
REFRESH-INTERVAL;VALUE=DURATION:PT1H
X-Robots-Tag:noindex
X-PUBLISHED-TTL:PT1H
BEGIN:VTIMEZONE
TZID:Europe/Berlin
BEGIN:DAYLIGHT
TZOFFSETFROM:+0100
TZOFFSETTO:+0200
TZNAME:CEST
DTSTART:20250330T010000
END:DAYLIGHT
BEGIN:STANDARD
TZOFFSETFROM:+0200
TZOFFSETTO:+0100
TZNAME:CET
DTSTART:20251026T010000
END:STANDARD
BEGIN:DAYLIGHT
TZOFFSETFROM:+0100
TZOFFSETTO:+0200
TZNAME:CEST
DTSTART:20260329T010000
END:DAYLIGHT
BEGIN:STANDARD
TZOFFSETFROM:+0200
TZOFFSETTO:+0100
TZNAME:CET
DTSTART:20261025T010000
END:STANDARD
BEGIN:DAYLIGHT
TZOFFSETFROM:+0100
TZOFFSETTO:+0200
TZNAME:CEST
DTSTART:20270328T010000
END:DAYLIGHT
BEGIN:STANDARD
TZOFFSETFROM:+0200
TZOFFSETTO:+0100
TZNAME:CET
DTSTART:20271031T010000
END:STANDARD
END:VTIMEZONE
BEGIN:VEVENT
DTSTART;TZID=Europe/Berlin:20260321T130000
DTEND;TZID=Europe/Berlin:20260321T160000
DTSTAMP:20260424T120221
CREATED:20260211T171239Z
LAST-MODIFIED:20260211T171239Z
UID:2738-1774098000-1774108800@bischmisheim.de
SUMMARY:Second-Hand-Markt Bischmisheim
DESCRIPTION:Flohmarkt mit Baby- und Kinderkleidung\, Spielsachen\, Büchern und Ausstattungsgegenständen \nFür das leibliche Wohl ist gesorgt. \nDer Erlös des Getränke- und Essensverkaufs\, sowie die Tischgebühr kommen der ev. Kindertagesstätte Bischmisheim zu Gute.
URL:https://bischmisheim.de/termine/second-hand-markt-bischmisheim/
LOCATION:Festhalle Bischmisheim\, Friedrich-Ebert-Straße\, Saarbrücken\, Sarland\, 66132
END:VEVENT
END:VCALENDAR